BEGIN:VCALENDAR
VERSION:2.0
PRODID:https://www.kufer.de/kuferweb / DE
METHOD:PUBLISH
CALSCALE:GREGORIAN
X-WR-TIMEZONE:Europe/Berlin
BEGIN:VTIMEZONE
TZID:Europe/Berlin
X-LIC-LOCATION:Europe/Berlin
BEGIN:DAYLIGHT
TZOFFSETFROM:+0100
TZOFFSETTO:+0200
TZNAME:CEST
DTSTART:19700329T020000
RRULE:FREQ=YEARLY;INTERVAL=1;BYDAY=-1SU;BYMONTH=3
END:DAYLIGHT
BEGIN:STANDARD
TZOFFSETFROM:+0200
TZOFFSETTO:+0100
TZNAME:CET
DTSTART:19701025T030000
RRULE:FREQ=YEARLY;INTERVAL=1;BYDAY=-1SU;BYMONTH=10
END:STANDARD
END:VTIMEZONE
BEGIN:VEVENT
DTSTAMP:20260420T191322
DTSTART;TZID=Europe/Berlin:20260428T180000
DTEND;TZID=Europe/Berlin:20260428T193000
UID:126-1041-20260428T180000@VHSOELDE-ENNIGERLOH
SUMMARY:Ausstellung "Klimawissen" – in Kooperation mit dem Klimaschutzmanagement der Stadt Ennigerloh (126-1041) 
LOCATION:Alte Brennerei Schwake;, Liebfrauenstraße 6, 59320 Ennigerloh
END:VEVENT
BEGIN:VEVENT
DTSTAMP:20260420T191322
DTSTART;TZID=Europe/Berlin:20260430T200000
DTEND;TZID=Europe/Berlin:20260430T213000
UID:126-1041-20260430T200000@VHSOELDE-ENNIGERLOH
SUMMARY:Ausstellung "Klimawissen" – in Kooperation mit dem Klimaschutzmanagement der Stadt Ennigerloh (126-1041) 
LOCATION:Alte Brennerei Schwake;, Liebfrauenstraße 6, 59320 Ennigerloh
END:VEVENT
BEGIN:VEVENT
DTSTAMP:20260420T191322
DTSTART;TZID=Europe/Berlin:20260502T153000
DTEND;TZID=Europe/Berlin:20260502T213000
UID:126-1041-20260502T153000@VHSOELDE-ENNIGERLOH
SUMMARY:Ausstellung "Klimawissen" – in Kooperation mit dem Klimaschutzmanagement der Stadt Ennigerloh (126-1041) 
LOCATION:Alte Brennerei Schwake;, Liebfrauenstraße 6, 59320 Ennigerloh
END:VEVENT
BEGIN:VEVENT
DTSTAMP:20260420T191322
DTSTART;TZID=Europe/Berlin:20260503T153000
DTEND;TZID=Europe/Berlin:20260503T213000
UID:126-1041-20260503T153000@VHSOELDE-ENNIGERLOH
SUMMARY:Ausstellung "Klimawissen" – in Kooperation mit dem Klimaschutzmanagement der Stadt Ennigerloh (126-1041) 
LOCATION:Alte Brennerei Schwake;, Liebfrauenstraße 6, 59320 Ennigerloh
END:VEVENT
BEGIN:VEVENT
DTSTAMP:20260420T191322
DTSTART;TZID=Europe/Berlin:20260507T200000
DTEND;TZID=Europe/Berlin:20260507T213000
UID:126-1041-20260507T200000@VHSOELDE-ENNIGERLOH
SUMMARY:Ausstellung "Klimawissen" – in Kooperation mit dem Klimaschutzmanagement der Stadt Ennigerloh (126-1041) 
LOCATION:Alte Brennerei Schwake;, Liebfrauenstraße 6, 59320 Ennigerloh
END:VEVENT
BEGIN:VEVENT
DTSTAMP:20260420T191322
DTSTART;TZID=Europe/Berlin:20260508T200000
DTEND;TZID=Europe/Berlin:20260508T213000
UID:126-1041-20260508T200000@VHSOELDE-ENNIGERLOH
SUMMARY:Ausstellung "Klimawissen" – in Kooperation mit dem Klimaschutzmanagement der Stadt Ennigerloh (126-1041) 
LOCATION:Alte Brennerei Schwake;, Liebfrauenstraße 6, 59320 Ennigerloh
END:VEVENT
BEGIN:VEVENT
DTSTAMP:20260420T191322
DTSTART;TZID=Europe/Berlin:20260509T153000
DTEND;TZID=Europe/Berlin:20260509T213000
UID:126-1041-20260509T153000@VHSOELDE-ENNIGERLOH
SUMMARY:Ausstellung "Klimawissen" – in Kooperation mit dem Klimaschutzmanagement der Stadt Ennigerloh (126-1041) 
LOCATION:Alte Brennerei Schwake;, Liebfrauenstraße 6, 59320 Ennigerloh
END:VEVENT
BEGIN:VEVENT
DTSTAMP:20260420T191322
DTSTART;TZID=Europe/Berlin:20260510T153000
DTEND;TZID=Europe/Berlin:20260510T213000
UID:126-1041-20260510T153000@VHSOELDE-ENNIGERLOH
SUMMARY:Ausstellung "Klimawissen" – in Kooperation mit dem Klimaschutzmanagement der Stadt Ennigerloh (126-1041) 
LOCATION:Alte Brennerei Schwake;, Liebfrauenstraße 6, 59320 Ennigerloh
END:VEVENT
BEGIN:VEVENT
DTSTAMP:20260420T191322
DTSTART;TZID=Europe/Berlin:20260515T200000
DTEND;TZID=Europe/Berlin:20260515T213000
UID:126-1041-20260515T200000@VHSOELDE-ENNIGERLOH
SUMMARY:Ausstellung "Klimawissen" – in Kooperation mit dem Klimaschutzmanagement der Stadt Ennigerloh (126-1041) 
LOCATION:Alte Brennerei Schwake;, Liebfrauenstraße 6, 59320 Ennigerloh
END:VEVENT
BEGIN:VEVENT
DTSTAMP:20260420T191322
DTSTART;TZID=Europe/Berlin:20260516T153000
DTEND;TZID=Europe/Berlin:20260516T213000
UID:126-1041-20260516T153000@VHSOELDE-ENNIGERLOH
SUMMARY:Ausstellung "Klimawissen" – in Kooperation mit dem Klimaschutzmanagement der Stadt Ennigerloh (126-1041) 
LOCATION:Alte Brennerei Schwake;, Liebfrauenstraße 6, 59320 Ennigerloh
END:VEVENT
BEGIN:VEVENT
DTSTAMP:20260420T191322
DTSTART;TZID=Europe/Berlin:20260517T153000
DTEND;TZID=Europe/Berlin:20260517T213000
UID:126-1041-20260517T153000@VHSOELDE-ENNIGERLOH
SUMMARY:Ausstellung "Klimawissen" – in Kooperation mit dem Klimaschutzmanagement der Stadt Ennigerloh (126-1041) 
LOCATION:Alte Brennerei Schwake;, Liebfrauenstraße 6, 59320 Ennigerloh
END:VEVENT
BEGIN:VEVENT
DTSTAMP:20260420T191322
DTSTART;TZID=Europe/Berlin:20260521T200000
DTEND;TZID=Europe/Berlin:20260521T213000
UID:126-1041-20260521T200000@VHSOELDE-ENNIGERLOH
SUMMARY:Ausstellung "Klimawissen" – in Kooperation mit dem Klimaschutzmanagement der Stadt Ennigerloh (126-1041) 
LOCATION:Alte Brennerei Schwake;, Liebfrauenstraße 6, 59320 Ennigerloh
END:VEVENT
BEGIN:VEVENT
DTSTAMP:20260420T191322
DTSTART;TZID=Europe/Berlin:20260522T200000
DTEND;TZID=Europe/Berlin:20260522T213000
UID:126-1041-20260522T200000@VHSOELDE-ENNIGERLOH
SUMMARY:Ausstellung "Klimawissen" – in Kooperation mit dem Klimaschutzmanagement der Stadt Ennigerloh (126-1041) 
LOCATION:Alte Brennerei Schwake;, Liebfrauenstraße 6, 59320 Ennigerloh
END:VEVENT
BEGIN:VEVENT
DTSTAMP:20260420T191322
DTSTART;TZID=Europe/Berlin:20260523T153000
DTEND;TZID=Europe/Berlin:20260523T213000
UID:126-1041-20260523T153000@VHSOELDE-ENNIGERLOH
SUMMARY:Ausstellung "Klimawissen" – in Kooperation mit dem Klimaschutzmanagement der Stadt Ennigerloh (126-1041) 
LOCATION:Alte Brennerei Schwake;, Liebfrauenstraße 6, 59320 Ennigerloh
END:VEVENT
BEGIN:VEVENT
DTSTAMP:20260420T191322
DTSTART;TZID=Europe/Berlin:20260524T153000
DTEND;TZID=Europe/Berlin:20260524T213000
UID:126-1041-20260524T153000@VHSOELDE-ENNIGERLOH
SUMMARY:Ausstellung "Klimawissen" – in Kooperation mit dem Klimaschutzmanagement der Stadt Ennigerloh (126-1041) 
LOCATION:Alte Brennerei Schwake;, Liebfrauenstraße 6, 59320 Ennigerloh
END:VEVENT
BEGIN:VEVENT
DTSTAMP:20260420T191322
DTSTART;TZID=Europe/Berlin:20260528T200000
DTEND;TZID=Europe/Berlin:20260528T213000
UID:126-1041-20260528T200000@VHSOELDE-ENNIGERLOH
SUMMARY:Ausstellung "Klimawissen" – in Kooperation mit dem Klimaschutzmanagement der Stadt Ennigerloh (126-1041) 
LOCATION:Alte Brennerei Schwake;, Liebfrauenstraße 6, 59320 Ennigerloh
END:VEVENT
BEGIN:VEVENT
DTSTAMP:20260420T191322
DTSTART;TZID=Europe/Berlin:20260529T200000
DTEND;TZID=Europe/Berlin:20260529T213000
UID:126-1041-20260529T200000@VHSOELDE-ENNIGERLOH
SUMMARY:Ausstellung "Klimawissen" – in Kooperation mit dem Klimaschutzmanagement der Stadt Ennigerloh (126-1041) 
LOCATION:Alte Brennerei Schwake;, Liebfrauenstraße 6, 59320 Ennigerloh
END:VEVENT
BEGIN:VEVENT
DTSTAMP:20260420T191322
DTSTART;TZID=Europe/Berlin:20260530T153000
DTEND;TZID=Europe/Berlin:20260530T213000
UID:126-1041-20260530T153000@VHSOELDE-ENNIGERLOH
SUMMARY:Ausstellung "Klimawissen" – in Kooperation mit dem Klimaschutzmanagement der Stadt Ennigerloh (126-1041) 
LOCATION:Alte Brennerei Schwake;, Liebfrauenstraße 6, 59320 Ennigerloh
END:VEVENT
BEGIN:VEVENT
DTSTAMP:20260420T191322
DTSTART;TZID=Europe/Berlin:20260531T153000
DTEND;TZID=Europe/Berlin:20260531T213000
UID:126-1041-20260531T153000@VHSOELDE-ENNIGERLOH
SUMMARY:Ausstellung "Klimawissen" – in Kooperation mit dem Klimaschutzmanagement der Stadt Ennigerloh (126-1041) 
LOCATION:Alte Brennerei Schwake;, Liebfrauenstraße 6, 59320 Ennigerloh
END:VEVENT
BEGIN:VEVENT
DTSTAMP:20260420T191322
DTSTART;TZID=Europe/Berlin:20260605T200000
DTEND;TZID=Europe/Berlin:20260605T213000
UID:126-1041-20260605T200000@VHSOELDE-ENNIGERLOH
SUMMARY:Ausstellung "Klimawissen" – in Kooperation mit dem Klimaschutzmanagement der Stadt Ennigerloh (126-1041) 
LOCATION:Alte Brennerei Schwake;, Liebfrauenstraße 6, 59320 Ennigerloh
END:VEVENT
BEGIN:VEVENT
DTSTAMP:20260420T191322
DTSTART;TZID=Europe/Berlin:20260606T153000
DTEND;TZID=Europe/Berlin:20260606T213000
UID:126-1041-20260606T153000@VHSOELDE-ENNIGERLOH
SUMMARY:Ausstellung "Klimawissen" – in Kooperation mit dem Klimaschutzmanagement der Stadt Ennigerloh (126-1041) 
LOCATION:Alte Brennerei Schwake;, Liebfrauenstraße 6, 59320 Ennigerloh
END:VEVENT
BEGIN:VEVENT
DTSTAMP:20260420T191322
DTSTART;TZID=Europe/Berlin:20260607T153000
DTEND;TZID=Europe/Berlin:20260607T213000
UID:126-1041-20260607T153000@VHSOELDE-ENNIGERLOH
SUMMARY:Ausstellung "Klimawissen" – in Kooperation mit dem Klimaschutzmanagement der Stadt Ennigerloh (126-1041) 
LOCATION:Alte Brennerei Schwake;, Liebfrauenstraße 6, 59320 Ennigerloh
END:VEVENT
BEGIN:VEVENT
DTSTAMP:20260420T191322
DTSTART;TZID=Europe/Berlin:20260611T200000
DTEND;TZID=Europe/Berlin:20260611T213000
UID:126-1041-20260611T200000@VHSOELDE-ENNIGERLOH
SUMMARY:Ausstellung "Klimawissen" – in Kooperation mit dem Klimaschutzmanagement der Stadt Ennigerloh (126-1041) 
LOCATION:Alte Brennerei Schwake;, Liebfrauenstraße 6, 59320 Ennigerloh
END:VEVENT
BEGIN:VEVENT
DTSTAMP:20260420T191322
DTSTART;TZID=Europe/Berlin:20260612T200000
DTEND;TZID=Europe/Berlin:20260612T213000
UID:126-1041-20260612T200000@VHSOELDE-ENNIGERLOH
SUMMARY:Ausstellung "Klimawissen" – in Kooperation mit dem Klimaschutzmanagement der Stadt Ennigerloh (126-1041) 
LOCATION:Alte Brennerei Schwake;, Liebfrauenstraße 6, 59320 Ennigerloh
END:VEVENT
BEGIN:VEVENT
DTSTAMP:20260420T191322
DTSTART;TZID=Europe/Berlin:20260618T200000
DTEND;TZID=Europe/Berlin:20260618T213000
UID:126-1041-20260618T200000@VHSOELDE-ENNIGERLOH
SUMMARY:Ausstellung "Klimawissen" – in Kooperation mit dem Klimaschutzmanagement der Stadt Ennigerloh (126-1041) 
LOCATION:Alte Brennerei Schwake;, Liebfrauenstraße 6, 59320 Ennigerloh
END:VEVENT
BEGIN:VEVENT
DTSTAMP:20260420T191322
DTSTART;TZID=Europe/Berlin:20260619T200000
DTEND;TZID=Europe/Berlin:20260619T213000
UID:126-1041-20260619T200000@VHSOELDE-ENNIGERLOH
SUMMARY:Ausstellung "Klimawissen" – in Kooperation mit dem Klimaschutzmanagement der Stadt Ennigerloh (126-1041) 
LOCATION:Alte Brennerei Schwake;, Liebfrauenstraße 6, 59320 Ennigerloh
END:VEVENT
BEGIN:VEVENT
DTSTAMP:20260420T191322
DTSTART;TZID=Europe/Berlin:20260625T200000
DTEND;TZID=Europe/Berlin:20260625T213000
UID:126-1041-20260625T200000@VHSOELDE-ENNIGERLOH
SUMMARY:Ausstellung "Klimawissen" – in Kooperation mit dem Klimaschutzmanagement der Stadt Ennigerloh (126-1041) 
LOCATION:Alte Brennerei Schwake;, Liebfrauenstraße 6, 59320 Ennigerloh
END:VEVENT
BEGIN:VEVENT
DTSTAMP:20260420T191322
DTSTART;TZID=Europe/Berlin:20260626T200000
DTEND;TZID=Europe/Berlin:20260626T213000
UID:126-1041-20260626T200000@VHSOELDE-ENNIGERLOH
SUMMARY:Ausstellung "Klimawissen" – in Kooperation mit dem Klimaschutzmanagement der Stadt Ennigerloh (126-1041) 
LOCATION:Alte Brennerei Schwake;, Liebfrauenstraße 6, 59320 Ennigerloh
END:VEVENT
END:VCALENDAR