BEGIN:VCALENDAR
VERSION:2.0
PRODID:https://www.kufer.de/kuferweb / DE
METHOD:PUBLISH
CALSCALE:GREGORIAN
X-WR-TIMEZONE:Europe/Berlin
BEGIN:VTIMEZONE
TZID:Europe/Berlin
X-LIC-LOCATION:Europe/Berlin
BEGIN:DAYLIGHT
TZOFFSETFROM:+0100
TZOFFSETTO:+0200
TZNAME:CEST
DTSTART:19700329T020000
RRULE:FREQ=YEARLY;INTERVAL=1;BYDAY=-1SU;BYMONTH=3
END:DAYLIGHT
BEGIN:STANDARD
TZOFFSETFROM:+0200
TZOFFSETTO:+0100
TZNAME:CET
DTSTART:19701025T030000
RRULE:FREQ=YEARLY;INTERVAL=1;BYDAY=-1SU;BYMONTH=10
END:STANDARD
END:VTIMEZONE
BEGIN:VEVENT
DTSTAMP:20260420T171409
DTSTART;TZID=Europe/Berlin:20260423T181500
DTEND;TZID=Europe/Berlin:20260423T191500
UID:126-3139-20260423T181500@VHSOELDE-ENNIGERLOH
SUMMARY:Qigong - ohne und mit Vorkenntnissen (126-3139) 
LOCATION:Alte Overbergschule; Raum 1.03.03 Entspannungsraum 2. OG, Overbergstraße 4, 59302 Oelde
END:VEVENT
BEGIN:VEVENT
DTSTAMP:20260420T171409
DTSTART;TZID=Europe/Berlin:20260430T181500
DTEND;TZID=Europe/Berlin:20260430T191500
UID:126-3139-20260430T181500@VHSOELDE-ENNIGERLOH
SUMMARY:Qigong - ohne und mit Vorkenntnissen (126-3139) 
LOCATION:Alte Overbergschule; Raum 1.03.03 Entspannungsraum 2. OG, Overbergstraße 4, 59302 Oelde
END:VEVENT
BEGIN:VEVENT
DTSTAMP:20260420T171409
DTSTART;TZID=Europe/Berlin:20260507T181500
DTEND;TZID=Europe/Berlin:20260507T191500
UID:126-3139-20260507T181500@VHSOELDE-ENNIGERLOH
SUMMARY:Qigong - ohne und mit Vorkenntnissen (126-3139) 
LOCATION:Alte Overbergschule; Raum 1.03.03 Entspannungsraum 2. OG, Overbergstraße 4, 59302 Oelde
END:VEVENT
BEGIN:VEVENT
DTSTAMP:20260420T171409
DTSTART;TZID=Europe/Berlin:20260521T181500
DTEND;TZID=Europe/Berlin:20260521T191500
UID:126-3139-20260521T181500@VHSOELDE-ENNIGERLOH
SUMMARY:Qigong - ohne und mit Vorkenntnissen (126-3139) 
LOCATION:Alte Overbergschule; Raum 1.03.03 Entspannungsraum 2. OG, Overbergstraße 4, 59302 Oelde
END:VEVENT
BEGIN:VEVENT
DTSTAMP:20260420T171409
DTSTART;TZID=Europe/Berlin:20260528T181500
DTEND;TZID=Europe/Berlin:20260528T191500
UID:126-3139-20260528T181500@VHSOELDE-ENNIGERLOH
SUMMARY:Qigong - ohne und mit Vorkenntnissen (126-3139) 
LOCATION:Alte Overbergschule; Raum 1.03.03 Entspannungsraum 2. OG, Overbergstraße 4, 59302 Oelde
END:VEVENT
BEGIN:VEVENT
DTSTAMP:20260420T171409
DTSTART;TZID=Europe/Berlin:20260611T181500
DTEND;TZID=Europe/Berlin:20260611T191500
UID:126-3139-20260611T181500@VHSOELDE-ENNIGERLOH
SUMMARY:Qigong - ohne und mit Vorkenntnissen (126-3139) 
LOCATION:Alte Overbergschule; Raum 1.03.03 Entspannungsraum 2. OG, Overbergstraße 4, 59302 Oelde
END:VEVENT
BEGIN:VEVENT
DTSTAMP:20260420T171409
DTSTART;TZID=Europe/Berlin:20260618T181500
DTEND;TZID=Europe/Berlin:20260618T191500
UID:126-3139-20260618T181500@VHSOELDE-ENNIGERLOH
SUMMARY:Qigong - ohne und mit Vorkenntnissen (126-3139) 
LOCATION:Alte Overbergschule; Raum 1.03.03 Entspannungsraum 2. OG, Overbergstraße 4, 59302 Oelde
END:VEVENT
BEGIN:VEVENT
DTSTAMP:20260420T171409
DTSTART;TZID=Europe/Berlin:20260625T181500
DTEND;TZID=Europe/Berlin:20260625T191500
UID:126-3139-20260625T181500@VHSOELDE-ENNIGERLOH
SUMMARY:Qigong - ohne und mit Vorkenntnissen (126-3139) 
LOCATION:Alte Overbergschule; Raum 1.03.03 Entspannungsraum 2. OG, Overbergstraße 4, 59302 Oelde
END:VEVENT
END:VCALENDAR