BEGIN:VCALENDAR
VERSION:2.0
PRODID:https://www.kufer.de/kuferweb / DE
METHOD:PUBLISH
CALSCALE:GREGORIAN
X-WR-TIMEZONE:Europe/Berlin
BEGIN:VTIMEZONE
TZID:Europe/Berlin
X-LIC-LOCATION:Europe/Berlin
BEGIN:DAYLIGHT
TZOFFSETFROM:+0100
TZOFFSETTO:+0200
TZNAME:CEST
DTSTART:19700329T020000
RRULE:FREQ=YEARLY;INTERVAL=1;BYDAY=-1SU;BYMONTH=3
END:DAYLIGHT
BEGIN:STANDARD
TZOFFSETFROM:+0200
TZOFFSETTO:+0100
TZNAME:CET
DTSTART:19701025T030000
RRULE:FREQ=YEARLY;INTERVAL=1;BYDAY=-1SU;BYMONTH=10
END:STANDARD
END:VTIMEZONE
BEGIN:VEVENT
DTSTAMP:20260424T125513
DTSTART;TZID=Europe/Berlin:20260414T153000
DTEND;TZID=Europe/Berlin:20260414T163000
UID:126-3221-20260414T153000@VHSOELDE-ENNIGERLOH
SUMMARY:Dehnübungen nach Liebscher & Bracht  - Selbsthilfe gegen die Schmerzen (126-3221) 
LOCATION:Alte Overbergschule; Raum 1.02.02 Entspannungsraum 1. OG, Overbergstraße 4, 59302 Oelde
END:VEVENT
BEGIN:VEVENT
DTSTAMP:20260424T125513
DTSTART;TZID=Europe/Berlin:20260421T153000
DTEND;TZID=Europe/Berlin:20260421T163000
UID:126-3221-20260421T153000@VHSOELDE-ENNIGERLOH
SUMMARY:Dehnübungen nach Liebscher & Bracht  - Selbsthilfe gegen die Schmerzen (126-3221) 
LOCATION:Alte Overbergschule; Raum 1.02.02 Entspannungsraum 1. OG, Overbergstraße 4, 59302 Oelde
END:VEVENT
BEGIN:VEVENT
DTSTAMP:20260424T125513
DTSTART;TZID=Europe/Berlin:20260505T153000
DTEND;TZID=Europe/Berlin:20260505T163000
UID:126-3221-20260505T153000@VHSOELDE-ENNIGERLOH
SUMMARY:Dehnübungen nach Liebscher & Bracht  - Selbsthilfe gegen die Schmerzen (126-3221) 
LOCATION:Alte Overbergschule; Raum 1.02.02 Entspannungsraum 1. OG, Overbergstraße 4, 59302 Oelde
END:VEVENT
BEGIN:VEVENT
DTSTAMP:20260424T125513
DTSTART;TZID=Europe/Berlin:20260512T153000
DTEND;TZID=Europe/Berlin:20260512T163000
UID:126-3221-20260512T153000@VHSOELDE-ENNIGERLOH
SUMMARY:Dehnübungen nach Liebscher & Bracht  - Selbsthilfe gegen die Schmerzen (126-3221) 
LOCATION:Alte Overbergschule; Raum 1.02.02 Entspannungsraum 1. OG, Overbergstraße 4, 59302 Oelde
END:VEVENT
BEGIN:VEVENT
DTSTAMP:20260424T125513
DTSTART;TZID=Europe/Berlin:20260519T153000
DTEND;TZID=Europe/Berlin:20260519T163000
UID:126-3221-20260519T153000@VHSOELDE-ENNIGERLOH
SUMMARY:Dehnübungen nach Liebscher & Bracht  - Selbsthilfe gegen die Schmerzen (126-3221) 
LOCATION:Alte Overbergschule; Raum 1.02.02 Entspannungsraum 1. OG, Overbergstraße 4, 59302 Oelde
END:VEVENT
BEGIN:VEVENT
DTSTAMP:20260424T125513
DTSTART;TZID=Europe/Berlin:20260526T153000
DTEND;TZID=Europe/Berlin:20260526T163000
UID:126-3221-20260526T153000@VHSOELDE-ENNIGERLOH
SUMMARY:Dehnübungen nach Liebscher & Bracht  - Selbsthilfe gegen die Schmerzen (126-3221) 
LOCATION:Alte Overbergschule; Raum 1.02.02 Entspannungsraum 1. OG, Overbergstraße 4, 59302 Oelde
END:VEVENT
END:VCALENDAR