BEGIN:VCALENDAR
VERSION:2.0
PRODID:https://www.kufer.de/kuferweb / DE
METHOD:PUBLISH
CALSCALE:GREGORIAN
X-WR-TIMEZONE:Europe/Berlin
BEGIN:VTIMEZONE
TZID:Europe/Berlin
X-LIC-LOCATION:Europe/Berlin
BEGIN:DAYLIGHT
TZOFFSETFROM:+0100
TZOFFSETTO:+0200
TZNAME:CEST
DTSTART:19700329T020000
RRULE:FREQ=YEARLY;INTERVAL=1;BYDAY=-1SU;BYMONTH=3
END:DAYLIGHT
BEGIN:STANDARD
TZOFFSETFROM:+0200
TZOFFSETTO:+0100
TZNAME:CET
DTSTART:19701025T030000
RRULE:FREQ=YEARLY;INTERVAL=1;BYDAY=-1SU;BYMONTH=10
END:STANDARD
END:VTIMEZONE
BEGIN:VEVENT
DTSTAMP:20260424T104308
DTSTART;TZID=Europe/Berlin:20260413T134500
DTEND;TZID=Europe/Berlin:20260413T170000
UID:126-48587-20260413T134500@VHSOELDE-ENNIGERLOH
SUMMARY:Integrationskurs mit Alphabetisierung (158), Modul 7 (126-48587) 
LOCATION:Alte Overbergschule; Raum 1.02.03, Overbergstraße 4, 59302 Oelde
END:VEVENT
BEGIN:VEVENT
DTSTAMP:20260424T104308
DTSTART;TZID=Europe/Berlin:20260414T141500
DTEND;TZID=Europe/Berlin:20260414T173000
UID:126-48587-20260414T141500@VHSOELDE-ENNIGERLOH
SUMMARY:Integrationskurs mit Alphabetisierung (158), Modul 7 (126-48587) 
LOCATION:Alte Overbergschule; Raum 1.02.03, Overbergstraße 4, 59302 Oelde
END:VEVENT
BEGIN:VEVENT
DTSTAMP:20260424T104308
DTSTART;TZID=Europe/Berlin:20260415T140000
DTEND;TZID=Europe/Berlin:20260415T163000
UID:126-48587-20260415T140000@VHSOELDE-ENNIGERLOH
SUMMARY:Integrationskurs mit Alphabetisierung (158), Modul 7 (126-48587) 
LOCATION:Alte Overbergschule; Raum 1.02.03, Overbergstraße 4, 59302 Oelde
END:VEVENT
BEGIN:VEVENT
DTSTAMP:20260424T104308
DTSTART;TZID=Europe/Berlin:20260416T140000
DTEND;TZID=Europe/Berlin:20260416T163000
UID:126-48587-20260416T140000@VHSOELDE-ENNIGERLOH
SUMMARY:Integrationskurs mit Alphabetisierung (158), Modul 7 (126-48587) 
LOCATION:Alte Overbergschule; Raum 1.02.03, Overbergstraße 4, 59302 Oelde
END:VEVENT
BEGIN:VEVENT
DTSTAMP:20260424T104308
DTSTART;TZID=Europe/Berlin:20260420T134500
DTEND;TZID=Europe/Berlin:20260420T170000
UID:126-48587-20260420T134500@VHSOELDE-ENNIGERLOH
SUMMARY:Integrationskurs mit Alphabetisierung (158), Modul 7 (126-48587) 
LOCATION:Alte Overbergschule; Raum 1.02.03, Overbergstraße 4, 59302 Oelde
END:VEVENT
BEGIN:VEVENT
DTSTAMP:20260424T104308
DTSTART;TZID=Europe/Berlin:20260421T141500
DTEND;TZID=Europe/Berlin:20260421T173000
UID:126-48587-20260421T141500@VHSOELDE-ENNIGERLOH
SUMMARY:Integrationskurs mit Alphabetisierung (158), Modul 7 (126-48587) 
LOCATION:Alte Overbergschule; Raum 1.02.03, Overbergstraße 4, 59302 Oelde
END:VEVENT
BEGIN:VEVENT
DTSTAMP:20260424T104308
DTSTART;TZID=Europe/Berlin:20260422T140000
DTEND;TZID=Europe/Berlin:20260422T163000
UID:126-48587-20260422T140000@VHSOELDE-ENNIGERLOH
SUMMARY:Integrationskurs mit Alphabetisierung (158), Modul 7 (126-48587) 
LOCATION:Alte Overbergschule; Raum 1.02.03, Overbergstraße 4, 59302 Oelde
END:VEVENT
BEGIN:VEVENT
DTSTAMP:20260424T104308
DTSTART;TZID=Europe/Berlin:20260423T140000
DTEND;TZID=Europe/Berlin:20260423T163000
UID:126-48587-20260423T140000@VHSOELDE-ENNIGERLOH
SUMMARY:Integrationskurs mit Alphabetisierung (158), Modul 7 (126-48587) 
LOCATION:Alte Overbergschule; Raum 1.02.03, Overbergstraße 4, 59302 Oelde
END:VEVENT
BEGIN:VEVENT
DTSTAMP:20260424T104308
DTSTART;TZID=Europe/Berlin:20260427T134500
DTEND;TZID=Europe/Berlin:20260427T170000
UID:126-48587-20260427T134500@VHSOELDE-ENNIGERLOH
SUMMARY:Integrationskurs mit Alphabetisierung (158), Modul 7 (126-48587) 
LOCATION:Alte Overbergschule; Raum 1.02.03, Overbergstraße 4, 59302 Oelde
END:VEVENT
BEGIN:VEVENT
DTSTAMP:20260424T104308
DTSTART;TZID=Europe/Berlin:20260428T141500
DTEND;TZID=Europe/Berlin:20260428T173000
UID:126-48587-20260428T141500@VHSOELDE-ENNIGERLOH
SUMMARY:Integrationskurs mit Alphabetisierung (158), Modul 7 (126-48587) 
LOCATION:Alte Overbergschule; Raum 1.02.03, Overbergstraße 4, 59302 Oelde
END:VEVENT
BEGIN:VEVENT
DTSTAMP:20260424T104308
DTSTART;TZID=Europe/Berlin:20260429T140000
DTEND;TZID=Europe/Berlin:20260429T163000
UID:126-48587-20260429T140000@VHSOELDE-ENNIGERLOH
SUMMARY:Integrationskurs mit Alphabetisierung (158), Modul 7 (126-48587) 
LOCATION:Alte Overbergschule; Raum 1.02.03, Overbergstraße 4, 59302 Oelde
END:VEVENT
BEGIN:VEVENT
DTSTAMP:20260424T104308
DTSTART;TZID=Europe/Berlin:20260430T140000
DTEND;TZID=Europe/Berlin:20260430T163000
UID:126-48587-20260430T140000@VHSOELDE-ENNIGERLOH
SUMMARY:Integrationskurs mit Alphabetisierung (158), Modul 7 (126-48587) 
LOCATION:Alte Overbergschule; Raum 1.02.03, Overbergstraße 4, 59302 Oelde
END:VEVENT
BEGIN:VEVENT
DTSTAMP:20260424T104308
DTSTART;TZID=Europe/Berlin:20260504T134500
DTEND;TZID=Europe/Berlin:20260504T170000
UID:126-48587-20260504T134500@VHSOELDE-ENNIGERLOH
SUMMARY:Integrationskurs mit Alphabetisierung (158), Modul 7 (126-48587) 
LOCATION:Alte Overbergschule; Raum 1.02.03, Overbergstraße 4, 59302 Oelde
END:VEVENT
BEGIN:VEVENT
DTSTAMP:20260424T104308
DTSTART;TZID=Europe/Berlin:20260505T141500
DTEND;TZID=Europe/Berlin:20260505T173000
UID:126-48587-20260505T141500@VHSOELDE-ENNIGERLOH
SUMMARY:Integrationskurs mit Alphabetisierung (158), Modul 7 (126-48587) 
LOCATION:Alte Overbergschule; Raum 1.02.03, Overbergstraße 4, 59302 Oelde
END:VEVENT
BEGIN:VEVENT
DTSTAMP:20260424T104308
DTSTART;TZID=Europe/Berlin:20260506T140000
DTEND;TZID=Europe/Berlin:20260506T163000
UID:126-48587-20260506T140000@VHSOELDE-ENNIGERLOH
SUMMARY:Integrationskurs mit Alphabetisierung (158), Modul 7 (126-48587) 
LOCATION:Alte Overbergschule; Raum 1.02.03, Overbergstraße 4, 59302 Oelde
END:VEVENT
BEGIN:VEVENT
DTSTAMP:20260424T104308
DTSTART;TZID=Europe/Berlin:20260507T140000
DTEND;TZID=Europe/Berlin:20260507T163000
UID:126-48587-20260507T140000@VHSOELDE-ENNIGERLOH
SUMMARY:Integrationskurs mit Alphabetisierung (158), Modul 7 (126-48587) 
LOCATION:Alte Overbergschule; Raum 1.02.03, Overbergstraße 4, 59302 Oelde
END:VEVENT
BEGIN:VEVENT
DTSTAMP:20260424T104308
DTSTART;TZID=Europe/Berlin:20260511T134500
DTEND;TZID=Europe/Berlin:20260511T170000
UID:126-48587-20260511T134500@VHSOELDE-ENNIGERLOH
SUMMARY:Integrationskurs mit Alphabetisierung (158), Modul 7 (126-48587) 
LOCATION:Alte Overbergschule; Raum 1.02.03, Overbergstraße 4, 59302 Oelde
END:VEVENT
BEGIN:VEVENT
DTSTAMP:20260424T104308
DTSTART;TZID=Europe/Berlin:20260512T141500
DTEND;TZID=Europe/Berlin:20260512T173000
UID:126-48587-20260512T141500@VHSOELDE-ENNIGERLOH
SUMMARY:Integrationskurs mit Alphabetisierung (158), Modul 7 (126-48587) 
LOCATION:Alte Overbergschule; Raum 1.02.03, Overbergstraße 4, 59302 Oelde
END:VEVENT
BEGIN:VEVENT
DTSTAMP:20260424T104308
DTSTART;TZID=Europe/Berlin:20260513T140000
DTEND;TZID=Europe/Berlin:20260513T163000
UID:126-48587-20260513T140000@VHSOELDE-ENNIGERLOH
SUMMARY:Integrationskurs mit Alphabetisierung (158), Modul 7 (126-48587) 
LOCATION:Alte Overbergschule; Raum 1.02.03, Overbergstraße 4, 59302 Oelde
END:VEVENT
BEGIN:VEVENT
DTSTAMP:20260424T104308
DTSTART;TZID=Europe/Berlin:20260518T134500
DTEND;TZID=Europe/Berlin:20260518T170000
UID:126-48587-20260518T134500@VHSOELDE-ENNIGERLOH
SUMMARY:Integrationskurs mit Alphabetisierung (158), Modul 7 (126-48587) 
LOCATION:Alte Overbergschule; Raum 1.02.03, Overbergstraße 4, 59302 Oelde
END:VEVENT
BEGIN:VEVENT
DTSTAMP:20260424T104308
DTSTART;TZID=Europe/Berlin:20260519T141500
DTEND;TZID=Europe/Berlin:20260519T173000
UID:126-48587-20260519T141500@VHSOELDE-ENNIGERLOH
SUMMARY:Integrationskurs mit Alphabetisierung (158), Modul 7 (126-48587) 
LOCATION:Alte Overbergschule; Raum 1.02.03, Overbergstraße 4, 59302 Oelde
END:VEVENT
BEGIN:VEVENT
DTSTAMP:20260424T104308
DTSTART;TZID=Europe/Berlin:20260520T140000
DTEND;TZID=Europe/Berlin:20260520T163000
UID:126-48587-20260520T140000@VHSOELDE-ENNIGERLOH
SUMMARY:Integrationskurs mit Alphabetisierung (158), Modul 7 (126-48587) 
LOCATION:Alte Overbergschule; Raum 1.02.03, Overbergstraße 4, 59302 Oelde
END:VEVENT
BEGIN:VEVENT
DTSTAMP:20260424T104308
DTSTART;TZID=Europe/Berlin:20260521T140000
DTEND;TZID=Europe/Berlin:20260521T163000
UID:126-48587-20260521T140000@VHSOELDE-ENNIGERLOH
SUMMARY:Integrationskurs mit Alphabetisierung (158), Modul 7 (126-48587) 
LOCATION:Alte Overbergschule; Raum 1.02.03, Overbergstraße 4, 59302 Oelde
END:VEVENT
BEGIN:VEVENT
DTSTAMP:20260424T104308
DTSTART;TZID=Europe/Berlin:20260527T140000
DTEND;TZID=Europe/Berlin:20260527T163000
UID:126-48587-20260527T140000@VHSOELDE-ENNIGERLOH
SUMMARY:Integrationskurs mit Alphabetisierung (158), Modul 7 (126-48587) 
LOCATION:Alte Overbergschule; Raum 1.02.03, Overbergstraße 4, 59302 Oelde
END:VEVENT
BEGIN:VEVENT
DTSTAMP:20260424T104308
DTSTART;TZID=Europe/Berlin:20260528T140000
DTEND;TZID=Europe/Berlin:20260528T163000
UID:126-48587-20260528T140000@VHSOELDE-ENNIGERLOH
SUMMARY:Integrationskurs mit Alphabetisierung (158), Modul 7 (126-48587) 
LOCATION:Alte Overbergschule; Raum 1.02.03, Overbergstraße 4, 59302 Oelde
END:VEVENT
BEGIN:VEVENT
DTSTAMP:20260424T104308
DTSTART;TZID=Europe/Berlin:20260601T134500
DTEND;TZID=Europe/Berlin:20260601T170000
UID:126-48587-20260601T134500@VHSOELDE-ENNIGERLOH
SUMMARY:Integrationskurs mit Alphabetisierung (158), Modul 7 (126-48587) 
LOCATION:Alte Overbergschule; Raum 1.02.03, Overbergstraße 4, 59302 Oelde
END:VEVENT
BEGIN:VEVENT
DTSTAMP:20260424T104308
DTSTART;TZID=Europe/Berlin:20260602T141500
DTEND;TZID=Europe/Berlin:20260602T173000
UID:126-48587-20260602T141500@VHSOELDE-ENNIGERLOH
SUMMARY:Integrationskurs mit Alphabetisierung (158), Modul 7 (126-48587) 
LOCATION:Alte Overbergschule; Raum 1.02.03, Overbergstraße 4, 59302 Oelde
END:VEVENT
BEGIN:VEVENT
DTSTAMP:20260424T104308
DTSTART;TZID=Europe/Berlin:20260603T140000
DTEND;TZID=Europe/Berlin:20260603T163000
UID:126-48587-20260603T140000@VHSOELDE-ENNIGERLOH
SUMMARY:Integrationskurs mit Alphabetisierung (158), Modul 7 (126-48587) 
LOCATION:Alte Overbergschule; Raum 1.02.03, Overbergstraße 4, 59302 Oelde
END:VEVENT
BEGIN:VEVENT
DTSTAMP:20260424T104308
DTSTART;TZID=Europe/Berlin:20260608T134500
DTEND;TZID=Europe/Berlin:20260608T151500
UID:126-48587-20260608T134500@VHSOELDE-ENNIGERLOH
DESCRIPTION:!!!!!
SUMMARY:Integrationskurs mit Alphabetisierung (158), Modul 7 (126-48587) 
LOCATION:Alte Overbergschule; Raum 1.02.03, Overbergstraße 4, 59302 Oelde
END:VEVENT
END:VCALENDAR