BEGIN:VCALENDAR
VERSION:2.0
PRODID:https://www.kufer.de/kuferweb / DE
METHOD:PUBLISH
CALSCALE:GREGORIAN
X-WR-TIMEZONE:Europe/Berlin
BEGIN:VTIMEZONE
TZID:Europe/Berlin
X-LIC-LOCATION:Europe/Berlin
BEGIN:DAYLIGHT
TZOFFSETFROM:+0100
TZOFFSETTO:+0200
TZNAME:CEST
DTSTART:19700329T020000
RRULE:FREQ=YEARLY;INTERVAL=1;BYDAY=-1SU;BYMONTH=3
END:DAYLIGHT
BEGIN:STANDARD
TZOFFSETFROM:+0200
TZOFFSETTO:+0100
TZNAME:CET
DTSTART:19701025T030000
RRULE:FREQ=YEARLY;INTERVAL=1;BYDAY=-1SU;BYMONTH=10
END:STANDARD
END:VTIMEZONE
BEGIN:VEVENT
DTSTAMP:20260424T110105
DTSTART;TZID=Europe/Berlin:20260413T084500
DTEND;TZID=Europe/Berlin:20260413T120000
UID:126-48617-20260413T084500@VHSOELDE-ENNIGERLOH
SUMMARY:Allgemeiner Integrationskurs (161), Orientierungskurs (126-48617) 
LOCATION:Alte Overbergschule; Raum 1.01.02, Overbergstraße 4, 59302 Oelde
END:VEVENT
BEGIN:VEVENT
DTSTAMP:20260424T110105
DTSTART;TZID=Europe/Berlin:20260414T084500
DTEND;TZID=Europe/Berlin:20260414T120000
UID:126-48617-20260414T084500@VHSOELDE-ENNIGERLOH
SUMMARY:Allgemeiner Integrationskurs (161), Orientierungskurs (126-48617) 
LOCATION:Alte Overbergschule; Raum 1.01.02, Overbergstraße 4, 59302 Oelde
END:VEVENT
BEGIN:VEVENT
DTSTAMP:20260424T110105
DTSTART;TZID=Europe/Berlin:20260415T084500
DTEND;TZID=Europe/Berlin:20260415T120000
UID:126-48617-20260415T084500@VHSOELDE-ENNIGERLOH
SUMMARY:Allgemeiner Integrationskurs (161), Orientierungskurs (126-48617) 
LOCATION:Alte Overbergschule; Raum 1.01.02, Overbergstraße 4, 59302 Oelde
END:VEVENT
BEGIN:VEVENT
DTSTAMP:20260424T110105
DTSTART;TZID=Europe/Berlin:20260416T084500
DTEND;TZID=Europe/Berlin:20260416T120000
UID:126-48617-20260416T084500@VHSOELDE-ENNIGERLOH
SUMMARY:Allgemeiner Integrationskurs (161), Orientierungskurs (126-48617) 
LOCATION:Alte Overbergschule; Raum 1.01.02, Overbergstraße 4, 59302 Oelde
END:VEVENT
BEGIN:VEVENT
DTSTAMP:20260424T110105
DTSTART;TZID=Europe/Berlin:20260417T084500
DTEND;TZID=Europe/Berlin:20260417T120000
UID:126-48617-20260417T084500@VHSOELDE-ENNIGERLOH
SUMMARY:Allgemeiner Integrationskurs (161), Orientierungskurs (126-48617) 
LOCATION:Alte Overbergschule; Raum 1.01.02, Overbergstraße 4, 59302 Oelde
END:VEVENT
BEGIN:VEVENT
DTSTAMP:20260424T110105
DTSTART;TZID=Europe/Berlin:20260420T084500
DTEND;TZID=Europe/Berlin:20260420T120000
UID:126-48617-20260420T084500@VHSOELDE-ENNIGERLOH
SUMMARY:Allgemeiner Integrationskurs (161), Orientierungskurs (126-48617) 
LOCATION:Alte Overbergschule; Raum 1.01.02, Overbergstraße 4, 59302 Oelde
END:VEVENT
BEGIN:VEVENT
DTSTAMP:20260424T110105
DTSTART;TZID=Europe/Berlin:20260421T084500
DTEND;TZID=Europe/Berlin:20260421T120000
UID:126-48617-20260421T084500@VHSOELDE-ENNIGERLOH
SUMMARY:Allgemeiner Integrationskurs (161), Orientierungskurs (126-48617) 
LOCATION:Alte Overbergschule; Raum 1.01.02, Overbergstraße 4, 59302 Oelde
END:VEVENT
BEGIN:VEVENT
DTSTAMP:20260424T110105
DTSTART;TZID=Europe/Berlin:20260423T084500
DTEND;TZID=Europe/Berlin:20260423T120000
UID:126-48617-20260423T084500@VHSOELDE-ENNIGERLOH
SUMMARY:Allgemeiner Integrationskurs (161), Orientierungskurs (126-48617) 
LOCATION:Alte Overbergschule; Raum 1.01.02, Overbergstraße 4, 59302 Oelde
END:VEVENT
BEGIN:VEVENT
DTSTAMP:20260424T110105
DTSTART;TZID=Europe/Berlin:20260424T084500
DTEND;TZID=Europe/Berlin:20260424T120000
UID:126-48617-20260424T084500@VHSOELDE-ENNIGERLOH
SUMMARY:Allgemeiner Integrationskurs (161), Orientierungskurs (126-48617) 
LOCATION:Alte Overbergschule; Raum 1.01.02, Overbergstraße 4, 59302 Oelde
END:VEVENT
BEGIN:VEVENT
DTSTAMP:20260424T110105
DTSTART;TZID=Europe/Berlin:20260427T084500
DTEND;TZID=Europe/Berlin:20260427T120000
UID:126-48617-20260427T084500@VHSOELDE-ENNIGERLOH
SUMMARY:Allgemeiner Integrationskurs (161), Orientierungskurs (126-48617) 
LOCATION:Alte Overbergschule; Raum 1.01.02, Overbergstraße 4, 59302 Oelde
END:VEVENT
BEGIN:VEVENT
DTSTAMP:20260424T110105
DTSTART;TZID=Europe/Berlin:20260428T084500
DTEND;TZID=Europe/Berlin:20260428T120000
UID:126-48617-20260428T084500@VHSOELDE-ENNIGERLOH
SUMMARY:Allgemeiner Integrationskurs (161), Orientierungskurs (126-48617) 
LOCATION:Alte Overbergschule; Raum 1.01.02, Overbergstraße 4, 59302 Oelde
END:VEVENT
BEGIN:VEVENT
DTSTAMP:20260424T110105
DTSTART;TZID=Europe/Berlin:20260429T084500
DTEND;TZID=Europe/Berlin:20260429T120000
UID:126-48617-20260429T084500@VHSOELDE-ENNIGERLOH
SUMMARY:Allgemeiner Integrationskurs (161), Orientierungskurs (126-48617) 
LOCATION:Alte Overbergschule; Raum 1.01.02, Overbergstraße 4, 59302 Oelde
END:VEVENT
BEGIN:VEVENT
DTSTAMP:20260424T110105
DTSTART;TZID=Europe/Berlin:20260430T084500
DTEND;TZID=Europe/Berlin:20260430T120000
UID:126-48617-20260430T084500@VHSOELDE-ENNIGERLOH
SUMMARY:Allgemeiner Integrationskurs (161), Orientierungskurs (126-48617) 
LOCATION:Alte Overbergschule; Raum 1.01.02, Overbergstraße 4, 59302 Oelde
END:VEVENT
BEGIN:VEVENT
DTSTAMP:20260424T110105
DTSTART;TZID=Europe/Berlin:20260504T084500
DTEND;TZID=Europe/Berlin:20260504T120000
UID:126-48617-20260504T084500@VHSOELDE-ENNIGERLOH
SUMMARY:Allgemeiner Integrationskurs (161), Orientierungskurs (126-48617) 
LOCATION:Alte Overbergschule; Raum 1.01.02, Overbergstraße 4, 59302 Oelde
END:VEVENT
BEGIN:VEVENT
DTSTAMP:20260424T110105
DTSTART;TZID=Europe/Berlin:20260505T084500
DTEND;TZID=Europe/Berlin:20260505T120000
UID:126-48617-20260505T084500@VHSOELDE-ENNIGERLOH
SUMMARY:Allgemeiner Integrationskurs (161), Orientierungskurs (126-48617) 
LOCATION:Alte Overbergschule; Raum 1.01.02, Overbergstraße 4, 59302 Oelde
END:VEVENT
BEGIN:VEVENT
DTSTAMP:20260424T110105
DTSTART;TZID=Europe/Berlin:20260506T084500
DTEND;TZID=Europe/Berlin:20260506T120000
UID:126-48617-20260506T084500@VHSOELDE-ENNIGERLOH
SUMMARY:Allgemeiner Integrationskurs (161), Orientierungskurs (126-48617) 
LOCATION:Alte Overbergschule; Raum 1.01.02, Overbergstraße 4, 59302 Oelde
END:VEVENT
BEGIN:VEVENT
DTSTAMP:20260424T110105
DTSTART;TZID=Europe/Berlin:20260507T084500
DTEND;TZID=Europe/Berlin:20260507T120000
UID:126-48617-20260507T084500@VHSOELDE-ENNIGERLOH
SUMMARY:Allgemeiner Integrationskurs (161), Orientierungskurs (126-48617) 
LOCATION:Alte Overbergschule; Raum 1.01.02, Overbergstraße 4, 59302 Oelde
END:VEVENT
BEGIN:VEVENT
DTSTAMP:20260424T110105
DTSTART;TZID=Europe/Berlin:20260508T084500
DTEND;TZID=Europe/Berlin:20260508T120000
UID:126-48617-20260508T084500@VHSOELDE-ENNIGERLOH
SUMMARY:Allgemeiner Integrationskurs (161), Orientierungskurs (126-48617) 
LOCATION:Alte Overbergschule; Raum 1.01.02, Overbergstraße 4, 59302 Oelde
END:VEVENT
BEGIN:VEVENT
DTSTAMP:20260424T110105
DTSTART;TZID=Europe/Berlin:20260511T084500
DTEND;TZID=Europe/Berlin:20260511T120000
UID:126-48617-20260511T084500@VHSOELDE-ENNIGERLOH
SUMMARY:Allgemeiner Integrationskurs (161), Orientierungskurs (126-48617) 
LOCATION:Alte Overbergschule; Raum 1.01.02, Overbergstraße 4, 59302 Oelde
END:VEVENT
BEGIN:VEVENT
DTSTAMP:20260424T110105
DTSTART;TZID=Europe/Berlin:20260512T084500
DTEND;TZID=Europe/Berlin:20260512T120000
UID:126-48617-20260512T084500@VHSOELDE-ENNIGERLOH
SUMMARY:Allgemeiner Integrationskurs (161), Orientierungskurs (126-48617) 
LOCATION:Alte Overbergschule; Raum 1.01.02, Overbergstraße 4, 59302 Oelde
END:VEVENT
BEGIN:VEVENT
DTSTAMP:20260424T110105
DTSTART;TZID=Europe/Berlin:20260513T084500
DTEND;TZID=Europe/Berlin:20260513T120000
UID:126-48617-20260513T084500@VHSOELDE-ENNIGERLOH
SUMMARY:Allgemeiner Integrationskurs (161), Orientierungskurs (126-48617) 
LOCATION:Alte Overbergschule; Raum 1.01.02, Overbergstraße 4, 59302 Oelde
END:VEVENT
BEGIN:VEVENT
DTSTAMP:20260424T110105
DTSTART;TZID=Europe/Berlin:20260518T084500
DTEND;TZID=Europe/Berlin:20260518T120000
UID:126-48617-20260518T084500@VHSOELDE-ENNIGERLOH
SUMMARY:Allgemeiner Integrationskurs (161), Orientierungskurs (126-48617) 
LOCATION:Alte Overbergschule; Raum 1.01.02, Overbergstraße 4, 59302 Oelde
END:VEVENT
BEGIN:VEVENT
DTSTAMP:20260424T110105
DTSTART;TZID=Europe/Berlin:20260519T084500
DTEND;TZID=Europe/Berlin:20260519T120000
UID:126-48617-20260519T084500@VHSOELDE-ENNIGERLOH
SUMMARY:Allgemeiner Integrationskurs (161), Orientierungskurs (126-48617) 
LOCATION:Alte Overbergschule; Raum 1.01.02, Overbergstraße 4, 59302 Oelde
END:VEVENT
BEGIN:VEVENT
DTSTAMP:20260424T110105
DTSTART;TZID=Europe/Berlin:20260520T084500
DTEND;TZID=Europe/Berlin:20260520T120000
UID:126-48617-20260520T084500@VHSOELDE-ENNIGERLOH
DESCRIPTION:Ersatz für Ausfall am 15.05.2026
SUMMARY:Allgemeiner Integrationskurs (161), Orientierungskurs (126-48617) 
LOCATION:Alte Overbergschule; Raum 1.01.02, Overbergstraße 4, 59302 Oelde
END:VEVENT
BEGIN:VEVENT
DTSTAMP:20260424T110105
DTSTART;TZID=Europe/Berlin:20260521T084500
DTEND;TZID=Europe/Berlin:20260521T120000
UID:126-48617-20260521T084500@VHSOELDE-ENNIGERLOH
DESCRIPTION:Ersatz für Ausfall am 22.04.2026
SUMMARY:Allgemeiner Integrationskurs (161), Orientierungskurs (126-48617) 
LOCATION:Alte Overbergschule; Raum 1.01.02, Overbergstraße 4, 59302 Oelde
END:VEVENT
END:VCALENDAR