BEGIN:VCALENDAR
VERSION:2.0
PRODID:https://www.kufer.de/kuferweb / DE
METHOD:PUBLISH
CALSCALE:GREGORIAN
X-WR-TIMEZONE:Europe/Berlin
BEGIN:VTIMEZONE
TZID:Europe/Berlin
X-LIC-LOCATION:Europe/Berlin
BEGIN:DAYLIGHT
TZOFFSETFROM:+0100
TZOFFSETTO:+0200
TZNAME:CEST
DTSTART:19700329T020000
RRULE:FREQ=YEARLY;INTERVAL=1;BYDAY=-1SU;BYMONTH=3
END:DAYLIGHT
BEGIN:STANDARD
TZOFFSETFROM:+0200
TZOFFSETTO:+0100
TZNAME:CET
DTSTART:19701025T030000
RRULE:FREQ=YEARLY;INTERVAL=1;BYDAY=-1SU;BYMONTH=10
END:STANDARD
END:VTIMEZONE
BEGIN:VEVENT
DTSTAMP:20260424T105931
DTSTART;TZID=Europe/Berlin:20260414T130000
DTEND;TZID=Europe/Berlin:20260414T161500
UID:126-48704-20260414T130000@VHSOELDE-ENNIGERLOH
DESCRIPTION:Vertretung für Fr. Bünte
SUMMARY:Allgemeiner Integrationskurs (170), Modul 4 (126-48704) 
LOCATION:Alte Overbergschule; Raum 1.01.04, Overbergstraße 4, 59302 Oelde
END:VEVENT
BEGIN:VEVENT
DTSTAMP:20260424T105931
DTSTART;TZID=Europe/Berlin:20260415T130000
DTEND;TZID=Europe/Berlin:20260415T161500
UID:126-48704-20260415T130000@VHSOELDE-ENNIGERLOH
DESCRIPTION:Vertretung für Fr. Bünte
SUMMARY:Allgemeiner Integrationskurs (170), Modul 4 (126-48704) 
LOCATION:Alte Overbergschule; Raum 1.01.04, Overbergstraße 4, 59302 Oelde
END:VEVENT
BEGIN:VEVENT
DTSTAMP:20260424T105931
DTSTART;TZID=Europe/Berlin:20260416T130000
DTEND;TZID=Europe/Berlin:20260416T161500
UID:126-48704-20260416T130000@VHSOELDE-ENNIGERLOH
SUMMARY:Allgemeiner Integrationskurs (170), Modul 4 (126-48704) 
LOCATION:Alte Overbergschule; Raum 1.01.04, Overbergstraße 4, 59302 Oelde
END:VEVENT
BEGIN:VEVENT
DTSTAMP:20260424T105931
DTSTART;TZID=Europe/Berlin:20260420T124500
DTEND;TZID=Europe/Berlin:20260420T160000
UID:126-48704-20260420T124500@VHSOELDE-ENNIGERLOH
SUMMARY:Allgemeiner Integrationskurs (170), Modul 4 (126-48704) 
LOCATION:Alte Overbergschule; Raum 1.01.04, Overbergstraße 4, 59302 Oelde
END:VEVENT
BEGIN:VEVENT
DTSTAMP:20260424T105931
DTSTART;TZID=Europe/Berlin:20260421T130000
DTEND;TZID=Europe/Berlin:20260421T161500
UID:126-48704-20260421T130000@VHSOELDE-ENNIGERLOH
SUMMARY:Allgemeiner Integrationskurs (170), Modul 4 (126-48704) 
LOCATION:Alte Overbergschule; Raum 1.01.04, Overbergstraße 4, 59302 Oelde
END:VEVENT
BEGIN:VEVENT
DTSTAMP:20260424T105931
DTSTART;TZID=Europe/Berlin:20260422T130000
DTEND;TZID=Europe/Berlin:20260422T161500
UID:126-48704-20260422T130000@VHSOELDE-ENNIGERLOH
SUMMARY:Allgemeiner Integrationskurs (170), Modul 4 (126-48704) 
LOCATION:Alte Overbergschule; Raum 1.01.04, Overbergstraße 4, 59302 Oelde
END:VEVENT
BEGIN:VEVENT
DTSTAMP:20260424T105931
DTSTART;TZID=Europe/Berlin:20260423T130000
DTEND;TZID=Europe/Berlin:20260423T161500
UID:126-48704-20260423T130000@VHSOELDE-ENNIGERLOH
SUMMARY:Allgemeiner Integrationskurs (170), Modul 4 (126-48704) 
LOCATION:Alte Overbergschule; Raum 1.01.04, Overbergstraße 4, 59302 Oelde
END:VEVENT
BEGIN:VEVENT
DTSTAMP:20260424T105931
DTSTART;TZID=Europe/Berlin:20260427T124500
DTEND;TZID=Europe/Berlin:20260427T160000
UID:126-48704-20260427T124500@VHSOELDE-ENNIGERLOH
SUMMARY:Allgemeiner Integrationskurs (170), Modul 4 (126-48704) 
LOCATION:Alte Overbergschule; Raum 1.01.04, Overbergstraße 4, 59302 Oelde
END:VEVENT
BEGIN:VEVENT
DTSTAMP:20260424T105931
DTSTART;TZID=Europe/Berlin:20260428T130000
DTEND;TZID=Europe/Berlin:20260428T161500
UID:126-48704-20260428T130000@VHSOELDE-ENNIGERLOH
SUMMARY:Allgemeiner Integrationskurs (170), Modul 4 (126-48704) 
LOCATION:Alte Overbergschule; Raum 1.01.04, Overbergstraße 4, 59302 Oelde
END:VEVENT
BEGIN:VEVENT
DTSTAMP:20260424T105931
DTSTART;TZID=Europe/Berlin:20260429T130000
DTEND;TZID=Europe/Berlin:20260429T161500
UID:126-48704-20260429T130000@VHSOELDE-ENNIGERLOH
SUMMARY:Allgemeiner Integrationskurs (170), Modul 4 (126-48704) 
LOCATION:Alte Overbergschule; Raum 1.01.04, Overbergstraße 4, 59302 Oelde
END:VEVENT
BEGIN:VEVENT
DTSTAMP:20260424T105931
DTSTART;TZID=Europe/Berlin:20260430T130000
DTEND;TZID=Europe/Berlin:20260430T161500
UID:126-48704-20260430T130000@VHSOELDE-ENNIGERLOH
SUMMARY:Allgemeiner Integrationskurs (170), Modul 4 (126-48704) 
LOCATION:Alte Overbergschule; Raum 1.01.04, Overbergstraße 4, 59302 Oelde
END:VEVENT
BEGIN:VEVENT
DTSTAMP:20260424T105931
DTSTART;TZID=Europe/Berlin:20260504T124500
DTEND;TZID=Europe/Berlin:20260504T160000
UID:126-48704-20260504T124500@VHSOELDE-ENNIGERLOH
SUMMARY:Allgemeiner Integrationskurs (170), Modul 4 (126-48704) 
LOCATION:Alte Overbergschule; Raum 1.01.04, Overbergstraße 4, 59302 Oelde
END:VEVENT
BEGIN:VEVENT
DTSTAMP:20260424T105931
DTSTART;TZID=Europe/Berlin:20260505T130000
DTEND;TZID=Europe/Berlin:20260505T161500
UID:126-48704-20260505T130000@VHSOELDE-ENNIGERLOH
SUMMARY:Allgemeiner Integrationskurs (170), Modul 4 (126-48704) 
LOCATION:Alte Overbergschule; Raum 1.01.04, Overbergstraße 4, 59302 Oelde
END:VEVENT
BEGIN:VEVENT
DTSTAMP:20260424T105931
DTSTART;TZID=Europe/Berlin:20260506T130000
DTEND;TZID=Europe/Berlin:20260506T161500
UID:126-48704-20260506T130000@VHSOELDE-ENNIGERLOH
SUMMARY:Allgemeiner Integrationskurs (170), Modul 4 (126-48704) 
LOCATION:Alte Overbergschule; Raum 1.01.04, Overbergstraße 4, 59302 Oelde
END:VEVENT
BEGIN:VEVENT
DTSTAMP:20260424T105931
DTSTART;TZID=Europe/Berlin:20260507T130000
DTEND;TZID=Europe/Berlin:20260507T161500
UID:126-48704-20260507T130000@VHSOELDE-ENNIGERLOH
SUMMARY:Allgemeiner Integrationskurs (170), Modul 4 (126-48704) 
LOCATION:Alte Overbergschule; Raum 1.01.04, Overbergstraße 4, 59302 Oelde
END:VEVENT
BEGIN:VEVENT
DTSTAMP:20260424T105931
DTSTART;TZID=Europe/Berlin:20260511T124500
DTEND;TZID=Europe/Berlin:20260511T160000
UID:126-48704-20260511T124500@VHSOELDE-ENNIGERLOH
SUMMARY:Allgemeiner Integrationskurs (170), Modul 4 (126-48704) 
LOCATION:Alte Overbergschule; Raum 1.01.04, Overbergstraße 4, 59302 Oelde
END:VEVENT
BEGIN:VEVENT
DTSTAMP:20260424T105931
DTSTART;TZID=Europe/Berlin:20260512T130000
DTEND;TZID=Europe/Berlin:20260512T161500
UID:126-48704-20260512T130000@VHSOELDE-ENNIGERLOH
DESCRIPTION:Vertretung für Fr. Bünte
SUMMARY:Allgemeiner Integrationskurs (170), Modul 4 (126-48704) 
LOCATION:Alte Overbergschule; Raum 1.01.04, Overbergstraße 4, 59302 Oelde
END:VEVENT
BEGIN:VEVENT
DTSTAMP:20260424T105931
DTSTART;TZID=Europe/Berlin:20260513T130000
DTEND;TZID=Europe/Berlin:20260513T161500
UID:126-48704-20260513T130000@VHSOELDE-ENNIGERLOH
DESCRIPTION:Vertretung für Fr. Bünte
SUMMARY:Allgemeiner Integrationskurs (170), Modul 4 (126-48704) 
LOCATION:Alte Overbergschule; Raum 1.01.04, Overbergstraße 4, 59302 Oelde
END:VEVENT
BEGIN:VEVENT
DTSTAMP:20260424T105931
DTSTART;TZID=Europe/Berlin:20260518T124500
DTEND;TZID=Europe/Berlin:20260518T160000
UID:126-48704-20260518T124500@VHSOELDE-ENNIGERLOH
SUMMARY:Allgemeiner Integrationskurs (170), Modul 4 (126-48704) 
LOCATION:Alte Overbergschule; Raum 1.01.04, Overbergstraße 4, 59302 Oelde
END:VEVENT
BEGIN:VEVENT
DTSTAMP:20260424T105931
DTSTART;TZID=Europe/Berlin:20260519T130000
DTEND;TZID=Europe/Berlin:20260519T161500
UID:126-48704-20260519T130000@VHSOELDE-ENNIGERLOH
SUMMARY:Allgemeiner Integrationskurs (170), Modul 4 (126-48704) 
LOCATION:Alte Overbergschule; Raum 1.01.04, Overbergstraße 4, 59302 Oelde
END:VEVENT
BEGIN:VEVENT
DTSTAMP:20260424T105931
DTSTART;TZID=Europe/Berlin:20260520T130000
DTEND;TZID=Europe/Berlin:20260520T161500
UID:126-48704-20260520T130000@VHSOELDE-ENNIGERLOH
SUMMARY:Allgemeiner Integrationskurs (170), Modul 4 (126-48704) 
LOCATION:Alte Overbergschule; Raum 1.01.04, Overbergstraße 4, 59302 Oelde
END:VEVENT
BEGIN:VEVENT
DTSTAMP:20260424T105931
DTSTART;TZID=Europe/Berlin:20260521T130000
DTEND;TZID=Europe/Berlin:20260521T161500
UID:126-48704-20260521T130000@VHSOELDE-ENNIGERLOH
SUMMARY:Allgemeiner Integrationskurs (170), Modul 4 (126-48704) 
LOCATION:Alte Overbergschule; Raum 1.01.04, Overbergstraße 4, 59302 Oelde
END:VEVENT
BEGIN:VEVENT
DTSTAMP:20260424T105931
DTSTART;TZID=Europe/Berlin:20260527T130000
DTEND;TZID=Europe/Berlin:20260527T161500
UID:126-48704-20260527T130000@VHSOELDE-ENNIGERLOH
SUMMARY:Allgemeiner Integrationskurs (170), Modul 4 (126-48704) 
LOCATION:Alte Overbergschule; Raum 1.01.04, Overbergstraße 4, 59302 Oelde
END:VEVENT
BEGIN:VEVENT
DTSTAMP:20260424T105931
DTSTART;TZID=Europe/Berlin:20260528T130000
DTEND;TZID=Europe/Berlin:20260528T161500
UID:126-48704-20260528T130000@VHSOELDE-ENNIGERLOH
SUMMARY:Allgemeiner Integrationskurs (170), Modul 4 (126-48704) 
LOCATION:Alte Overbergschule; Raum 1.01.04, Overbergstraße 4, 59302 Oelde
END:VEVENT
BEGIN:VEVENT
DTSTAMP:20260424T105931
DTSTART;TZID=Europe/Berlin:20260601T130000
DTEND;TZID=Europe/Berlin:20260601T161500
UID:126-48704-20260601T130000@VHSOELDE-ENNIGERLOH
SUMMARY:Allgemeiner Integrationskurs (170), Modul 4 (126-48704) 
LOCATION:Alte Overbergschule; Raum 1.01.04, Overbergstraße 4, 59302 Oelde
END:VEVENT
END:VCALENDAR