BEGIN:VCALENDAR
VERSION:2.0
PRODID:https://www.kufer.de/kuferweb / DE
METHOD:PUBLISH
CALSCALE:GREGORIAN
X-WR-TIMEZONE:Europe/Berlin
BEGIN:VTIMEZONE
TZID:Europe/Berlin
X-LIC-LOCATION:Europe/Berlin
BEGIN:DAYLIGHT
TZOFFSETFROM:+0100
TZOFFSETTO:+0200
TZNAME:CEST
DTSTART:19700329T020000
RRULE:FREQ=YEARLY;INTERVAL=1;BYDAY=-1SU;BYMONTH=3
END:DAYLIGHT
BEGIN:STANDARD
TZOFFSETFROM:+0200
TZOFFSETTO:+0100
TZNAME:CET
DTSTART:19701025T030000
RRULE:FREQ=YEARLY;INTERVAL=1;BYDAY=-1SU;BYMONTH=10
END:STANDARD
END:VTIMEZONE
BEGIN:VEVENT
DTSTAMP:20260424T105616
DTSTART;TZID=Europe/Berlin:20260427T084500
DTEND;TZID=Europe/Berlin:20260427T120000
UID:126-48731-20260427T084500@VHSOELDE-ENNIGERLOH
SUMMARY:Integrationskurs für gering Literalisierte (173), Modul 1 (126-48731) 
LOCATION:Alte Overbergschule; Raum 1.02.04, Overbergstraße 4, 59302 Oelde
END:VEVENT
BEGIN:VEVENT
DTSTAMP:20260424T105616
DTSTART;TZID=Europe/Berlin:20260428T084500
DTEND;TZID=Europe/Berlin:20260428T120000
UID:126-48731-20260428T084500@VHSOELDE-ENNIGERLOH
SUMMARY:Integrationskurs für gering Literalisierte (173), Modul 1 (126-48731) 
LOCATION:Alte Overbergschule; Raum 1.02.04, Overbergstraße 4, 59302 Oelde
END:VEVENT
BEGIN:VEVENT
DTSTAMP:20260424T105616
DTSTART;TZID=Europe/Berlin:20260429T084500
DTEND;TZID=Europe/Berlin:20260429T120000
UID:126-48731-20260429T084500@VHSOELDE-ENNIGERLOH
SUMMARY:Integrationskurs für gering Literalisierte (173), Modul 1 (126-48731) 
LOCATION:Alte Overbergschule; Raum 1.02.04, Overbergstraße 4, 59302 Oelde
END:VEVENT
BEGIN:VEVENT
DTSTAMP:20260424T105616
DTSTART;TZID=Europe/Berlin:20260430T084500
DTEND;TZID=Europe/Berlin:20260430T120000
UID:126-48731-20260430T084500@VHSOELDE-ENNIGERLOH
SUMMARY:Integrationskurs für gering Literalisierte (173), Modul 1 (126-48731) 
LOCATION:Alte Overbergschule; Raum 1.02.04, Overbergstraße 4, 59302 Oelde
END:VEVENT
BEGIN:VEVENT
DTSTAMP:20260424T105616
DTSTART;TZID=Europe/Berlin:20260504T084500
DTEND;TZID=Europe/Berlin:20260504T120000
UID:126-48731-20260504T084500@VHSOELDE-ENNIGERLOH
SUMMARY:Integrationskurs für gering Literalisierte (173), Modul 1 (126-48731) 
LOCATION:Alte Overbergschule; Raum 1.02.04, Overbergstraße 4, 59302 Oelde
END:VEVENT
BEGIN:VEVENT
DTSTAMP:20260424T105616
DTSTART;TZID=Europe/Berlin:20260505T084500
DTEND;TZID=Europe/Berlin:20260505T120000
UID:126-48731-20260505T084500@VHSOELDE-ENNIGERLOH
SUMMARY:Integrationskurs für gering Literalisierte (173), Modul 1 (126-48731) 
LOCATION:Alte Overbergschule; Raum 1.02.04, Overbergstraße 4, 59302 Oelde
END:VEVENT
BEGIN:VEVENT
DTSTAMP:20260424T105616
DTSTART;TZID=Europe/Berlin:20260506T084500
DTEND;TZID=Europe/Berlin:20260506T120000
UID:126-48731-20260506T084500@VHSOELDE-ENNIGERLOH
SUMMARY:Integrationskurs für gering Literalisierte (173), Modul 1 (126-48731) 
LOCATION:Alte Overbergschule; Raum 1.02.04, Overbergstraße 4, 59302 Oelde
END:VEVENT
BEGIN:VEVENT
DTSTAMP:20260424T105616
DTSTART;TZID=Europe/Berlin:20260507T084500
DTEND;TZID=Europe/Berlin:20260507T120000
UID:126-48731-20260507T084500@VHSOELDE-ENNIGERLOH
SUMMARY:Integrationskurs für gering Literalisierte (173), Modul 1 (126-48731) 
LOCATION:Alte Overbergschule; Raum 1.02.04, Overbergstraße 4, 59302 Oelde
END:VEVENT
BEGIN:VEVENT
DTSTAMP:20260424T105616
DTSTART;TZID=Europe/Berlin:20260508T084500
DTEND;TZID=Europe/Berlin:20260508T120000
UID:126-48731-20260508T084500@VHSOELDE-ENNIGERLOH
SUMMARY:Integrationskurs für gering Literalisierte (173), Modul 1 (126-48731) 
LOCATION:Alte Overbergschule; Raum 1.02.04, Overbergstraße 4, 59302 Oelde
END:VEVENT
BEGIN:VEVENT
DTSTAMP:20260424T105616
DTSTART;TZID=Europe/Berlin:20260511T084500
DTEND;TZID=Europe/Berlin:20260511T120000
UID:126-48731-20260511T084500@VHSOELDE-ENNIGERLOH
SUMMARY:Integrationskurs für gering Literalisierte (173), Modul 1 (126-48731) 
LOCATION:Alte Overbergschule; Raum 1.02.04, Overbergstraße 4, 59302 Oelde
END:VEVENT
BEGIN:VEVENT
DTSTAMP:20260424T105616
DTSTART;TZID=Europe/Berlin:20260512T084500
DTEND;TZID=Europe/Berlin:20260512T120000
UID:126-48731-20260512T084500@VHSOELDE-ENNIGERLOH
SUMMARY:Integrationskurs für gering Literalisierte (173), Modul 1 (126-48731) 
LOCATION:Alte Overbergschule; Raum 1.02.04, Overbergstraße 4, 59302 Oelde
END:VEVENT
BEGIN:VEVENT
DTSTAMP:20260424T105616
DTSTART;TZID=Europe/Berlin:20260513T084500
DTEND;TZID=Europe/Berlin:20260513T120000
UID:126-48731-20260513T084500@VHSOELDE-ENNIGERLOH
SUMMARY:Integrationskurs für gering Literalisierte (173), Modul 1 (126-48731) 
LOCATION:Alte Overbergschule; Raum 1.02.04, Overbergstraße 4, 59302 Oelde
END:VEVENT
BEGIN:VEVENT
DTSTAMP:20260424T105616
DTSTART;TZID=Europe/Berlin:20260515T084500
DTEND;TZID=Europe/Berlin:20260515T120000
UID:126-48731-20260515T084500@VHSOELDE-ENNIGERLOH
SUMMARY:Integrationskurs für gering Literalisierte (173), Modul 1 (126-48731) 
LOCATION:Alte Overbergschule; Raum 1.02.04, Overbergstraße 4, 59302 Oelde
END:VEVENT
BEGIN:VEVENT
DTSTAMP:20260424T105616
DTSTART;TZID=Europe/Berlin:20260518T084500
DTEND;TZID=Europe/Berlin:20260518T120000
UID:126-48731-20260518T084500@VHSOELDE-ENNIGERLOH
SUMMARY:Integrationskurs für gering Literalisierte (173), Modul 1 (126-48731) 
LOCATION:Alte Overbergschule; Raum 1.02.04, Overbergstraße 4, 59302 Oelde
END:VEVENT
BEGIN:VEVENT
DTSTAMP:20260424T105616
DTSTART;TZID=Europe/Berlin:20260519T084500
DTEND;TZID=Europe/Berlin:20260519T120000
UID:126-48731-20260519T084500@VHSOELDE-ENNIGERLOH
SUMMARY:Integrationskurs für gering Literalisierte (173), Modul 1 (126-48731) 
LOCATION:Alte Overbergschule; Raum 1.02.04, Overbergstraße 4, 59302 Oelde
END:VEVENT
BEGIN:VEVENT
DTSTAMP:20260424T105616
DTSTART;TZID=Europe/Berlin:20260520T084500
DTEND;TZID=Europe/Berlin:20260520T120000
UID:126-48731-20260520T084500@VHSOELDE-ENNIGERLOH
SUMMARY:Integrationskurs für gering Literalisierte (173), Modul 1 (126-48731) 
LOCATION:Alte Overbergschule; Raum 1.02.04, Overbergstraße 4, 59302 Oelde
END:VEVENT
BEGIN:VEVENT
DTSTAMP:20260424T105616
DTSTART;TZID=Europe/Berlin:20260521T084500
DTEND;TZID=Europe/Berlin:20260521T120000
UID:126-48731-20260521T084500@VHSOELDE-ENNIGERLOH
SUMMARY:Integrationskurs für gering Literalisierte (173), Modul 1 (126-48731) 
LOCATION:Alte Overbergschule; Raum 1.02.04, Overbergstraße 4, 59302 Oelde
END:VEVENT
BEGIN:VEVENT
DTSTAMP:20260424T105616
DTSTART;TZID=Europe/Berlin:20260522T084500
DTEND;TZID=Europe/Berlin:20260522T120000
UID:126-48731-20260522T084500@VHSOELDE-ENNIGERLOH
SUMMARY:Integrationskurs für gering Literalisierte (173), Modul 1 (126-48731) 
LOCATION:Alte Overbergschule; Raum 1.02.04, Overbergstraße 4, 59302 Oelde
END:VEVENT
BEGIN:VEVENT
DTSTAMP:20260424T105616
DTSTART;TZID=Europe/Berlin:20260527T084500
DTEND;TZID=Europe/Berlin:20260527T120000
UID:126-48731-20260527T084500@VHSOELDE-ENNIGERLOH
SUMMARY:Integrationskurs für gering Literalisierte (173), Modul 1 (126-48731) 
LOCATION:Alte Overbergschule; Raum 1.02.04, Overbergstraße 4, 59302 Oelde
END:VEVENT
BEGIN:VEVENT
DTSTAMP:20260424T105616
DTSTART;TZID=Europe/Berlin:20260528T084500
DTEND;TZID=Europe/Berlin:20260528T120000
UID:126-48731-20260528T084500@VHSOELDE-ENNIGERLOH
SUMMARY:Integrationskurs für gering Literalisierte (173), Modul 1 (126-48731) 
LOCATION:Alte Overbergschule; Raum 1.02.04, Overbergstraße 4, 59302 Oelde
END:VEVENT
BEGIN:VEVENT
DTSTAMP:20260424T105616
DTSTART;TZID=Europe/Berlin:20260529T084500
DTEND;TZID=Europe/Berlin:20260529T120000
UID:126-48731-20260529T084500@VHSOELDE-ENNIGERLOH
SUMMARY:Integrationskurs für gering Literalisierte (173), Modul 1 (126-48731) 
LOCATION:Alte Overbergschule; Raum 1.02.04, Overbergstraße 4, 59302 Oelde
END:VEVENT
BEGIN:VEVENT
DTSTAMP:20260424T105616
DTSTART;TZID=Europe/Berlin:20260601T084500
DTEND;TZID=Europe/Berlin:20260601T120000
UID:126-48731-20260601T084500@VHSOELDE-ENNIGERLOH
SUMMARY:Integrationskurs für gering Literalisierte (173), Modul 1 (126-48731) 
LOCATION:Alte Overbergschule; Raum 1.02.04, Overbergstraße 4, 59302 Oelde
END:VEVENT
BEGIN:VEVENT
DTSTAMP:20260424T105616
DTSTART;TZID=Europe/Berlin:20260602T084500
DTEND;TZID=Europe/Berlin:20260602T120000
UID:126-48731-20260602T084500@VHSOELDE-ENNIGERLOH
SUMMARY:Integrationskurs für gering Literalisierte (173), Modul 1 (126-48731) 
LOCATION:Alte Overbergschule; Raum 1.02.04, Overbergstraße 4, 59302 Oelde
END:VEVENT
BEGIN:VEVENT
DTSTAMP:20260424T105616
DTSTART;TZID=Europe/Berlin:20260603T084500
DTEND;TZID=Europe/Berlin:20260603T120000
UID:126-48731-20260603T084500@VHSOELDE-ENNIGERLOH
SUMMARY:Integrationskurs für gering Literalisierte (173), Modul 1 (126-48731) 
LOCATION:Alte Overbergschule; Raum 1.02.04, Overbergstraße 4, 59302 Oelde
END:VEVENT
BEGIN:VEVENT
DTSTAMP:20260424T105616
DTSTART;TZID=Europe/Berlin:20260605T084500
DTEND;TZID=Europe/Berlin:20260605T120000
UID:126-48731-20260605T084500@VHSOELDE-ENNIGERLOH
SUMMARY:Integrationskurs für gering Literalisierte (173), Modul 1 (126-48731) 
LOCATION:Alte Overbergschule; Raum 1.02.04, Overbergstraße 4, 59302 Oelde
END:VEVENT
END:VCALENDAR